BEGIN:VCALENDAR
VERSION:2.0
PRODID:-//wp-events-plugin.com//6.6.3//EN
TZID:Europe/Berlin
X-WR-TIMEZONE:Europe/Berlin
BEGIN:VEVENT
UID:6@butze.de
DTSTART;TZID=Europe/Berlin:20250321T080000
DTEND;TZID=Europe/Berlin:20250321T160000
DTSTAMP:20250204T103011Z
URL:https://butze.de/events/auffrischungskurs-desinfektor/
SUMMARY:Aktualisierungskurs Desinfektor
DESCRIPTION:Inhalt:\n\n 	jährliche Änderungen und aktuelle Themen\n 	Änd
 erung des Infektionsschutzgesetzes\n 	Grundlagen der Validierung einer Fl
 ächendesinfektion\n 	allgemeine Themen wie Mikrobiologie\, Chemie\, Händ
 ehygiene\n 	Arbeitssicherheit\, Desinfektion und Aufbereitung\n 	aktuelle 
 Richtlinien\, Gesetze und Vorschriften\n\nZielgruppe:\nDesinfektor(in)\, a
 uch sinnvoll für Hygienebeauftragte(r)\n(Bitte kommen Sie nur\, wenn Sie 
 diese Ausbildung besitzen)\nSeminarziel:\nJegliche Desinfektionsmaßnahmen
  durchzuführen\, anzuleiten und zu kontrollieren\, sowie Hygienekonzepte 
 zu erstellen.\nReferent:\nHerr Udo Lebensky\, DGKK Hygieneinstitut Schuber
 t\nTermine:\n21.03.2025\nOrt:\nOnline\nDauer:\n1 Tag\, 8:00-16:00 Uhr\nPre
 is:\n150\,00€\, von der Umsatzsteuer befreit gemäß §4 Abs. 21 UstG in
 kl. MwSt.
ATTACH;FMTTYPE=image/jpeg:https://butze.de/wp-content/uploads/2024/12/hand
 s-disinfection-concept-woman-in-medical-mask-2023-11-27-05-16-32-utc-scale
 d-e1733909567385.jpg
CATEGORIES:Webinar
LOCATION:https://hyginst.com/produkt/desinfektor-m-w-d-aktualisierungskurs-
 onlinekurs/
END:VEVENT
BEGIN:VTIMEZONE
TZID:Europe/Berlin
X-LIC-LOCATION:Europe/Berlin
BEGIN:STANDARD
DTSTART:20241027T020000
TZOFFSETFROM:+0200
TZOFFSETTO:+0100
TZNAME:CET
END:STANDARD
END:VTIMEZONE
END:VCALENDAR