BEGIN:VCALENDAR
VERSION:2.0
PRODID:-//wp-events-plugin.com//6.6.3//EN
TZID:Europe/Berlin
X-WR-TIMEZONE:Europe/Berlin
BEGIN:VEVENT
UID:43@butze.de
DTSTART;TZID=Europe/Berlin:20251001T000000
DTEND;TZID=Europe/Berlin:20261231T000000
DTSTAMP:20260324T134441Z
URL:https://butze.de/events/ki-pflichtschulung-nach-%c2%a74-eu-ai-act-mit-
 der-bridge-ai-academy/
SUMMARY:KI-Pflichtschulung nach  §4 EU AI Act mit der Bridge AI Academy
DESCRIPTION:Diese KI-Pflichtschulung der Bridge AI Academy vermittelt alle
  gesetzlich geforderten Inhalte gemäß Art. 4 EU AI Act für den sicheren
  Umgang mit Künstlicher Intelligenz. Praxisnah\, verständlich und dank S
 tatus-Quo-Test für alle Erfahrungsniveaus geeignet. Inklusive Zertifikat!
  (Teilnahme KI-Pflichtschulung).\n\nKursinhalte:\n1 – Einleitung &amp\; 
 Status Quo TestRelevanz der Schulung\, Agendaüberblick und Eingangstest z
 ur Anpassung der Inhalte.\n2 – Einführung &amp\; Technische GrundlagenG
 rundverständnis von KI: zentrale Begriffe\, Modelle\, Strukturen\, histor
 ische Einordnung und aktuelle Fähigkeiten.\n3 – Regulatorik &amp\; Ethi
 kRechtssicherer KI-Einsatz: EU AI Act\, Datenschutz\, Urheberrecht und eth
 ische Aspekte inkl. Risikominimierung.\n4 – Anwendungsbereiche &amp\; Pr
 omptingPraktische Nutzung von KI im Arbeitsalltag\, Tools\, Einsatzfelder\
 , effektives Prompting\, Beispiele und Fokus auf ChatGPT.\n5 – Abschluss
 prüfung &amp\; ZertifikatFinale Wissensprüfung mit Zertifikat gemäß EU
  AI Act\, Nachweis für sicheren\, rechtlich fundierten KI-Einsatz.\n\nZie
 lgruppe:\nSeit Februar 2025 verpflichtet Art. 4 des EU AI Act Unternehmen 
 dazu\, ihre Mitarbeitenden im Umgang mit Künstlicher Intelligenz zu schul
 en (KI-Pflichtschulung).\nSeminarziel:\nDiese Schulung vermittelt alle nac
 h Art. 4 des EU AI Act geforderten Inhalte für einen verantwortungsvollen
  Umgang mit KI in Unternehmen. Sie erhalten Zugang zu einem Online Lernpor
 tal\, in dem Ihnen die Inhalte der Schulung einen Monat lang zur freien Ve
 rfügung stehen.\nReferenten:\nKI-gestützte virtuelle Trainer (Ella &amp\
 ; Nick)\, Autoren: Bridge AI Academy\nTermin:\nOnline Schulung nach Bedarf
 \, 1 Monat Laufzeit des Zugangs\nDauer:\n3 Stunden\nPreis:\n89\,00 € pro
  Zugang netto inkl. Zertifikat\n\n85\,00 € pro Zugang (ab 5 Personen)\n\
 n79\,00 € pro Zugang (ab 10 Personen)\n\nNach Abschluss der Buchung erha
 lten Sie die Zugangsdaten zum Lernportal der Bridge AI Academy. Dieser Zug
 ang ist einen Monat lang gültig.\n\nWenn Sie erst zu einem späteren Zeit
 punkt der Buchung ihre Laufzeit von 1 Monat in Anspruch wollen\, nehmen Si
 e bitte Kontakt mit uns auf unter seminare@butze.de oder telefonisch unter
  035202 510 5141.
ATTACH;FMTTYPE=image/jpeg:https://butze.de/wp-content/uploads/2025/10/KI-P
 flichtschulung-mit-BridgeAI.jpeg
CATEGORIES:Webinar
END:VEVENT
BEGIN:VTIMEZONE
TZID:Europe/Berlin
X-LIC-LOCATION:Europe/Berlin
BEGIN:DAYLIGHT
DTSTART:20250330T030000
TZOFFSETFROM:+0100
TZOFFSETTO:+0200
TZNAME:CEST
END:DAYLIGHT
BEGIN:STANDARD
DTSTART:20251026T020000
TZOFFSETFROM:+0200
TZOFFSETTO:+0100
TZNAME:CET
END:STANDARD
BEGIN:DAYLIGHT
DTSTART:20260329T030000
TZOFFSETFROM:+0100
TZOFFSETTO:+0200
TZNAME:CEST
END:DAYLIGHT
BEGIN:STANDARD
DTSTART:20261025T020000
TZOFFSETFROM:+0200
TZOFFSETTO:+0100
TZNAME:CET
END:STANDARD
END:VTIMEZONE
END:VCALENDAR